BEGIN:VCALENDAR
VERSION:2.0
PRODID:Carson City Calendar Creator
METHOD:PUBLISH
BEGIN:VEVENT
DTSTAMP:20220914T145955
DTSTART:20220914T163000
DTEND:20220914T193000
SUMMARY:Carson Area Metropolitan Planning Organization
DESCRIPTION:<p><a href="https://www.carsoncity.gov/home/showpublisheddocument/81827/637982526993970000" target="_blank">CAMPO&nbsp;Agenda with Supporting Materials</a></p><p data-uw-styling-context="true"><a href="https://www.carsoncity.gov/government/city-meetings" data-uw-styling-context="true">Livestream</a></p><p data-uw-styling-context="true"><a href="https://www.carsoncity.gov/home/showpublisheddocument/81829/637982529679330000" target="_blank">Agenda:&nbsp; &nbsp;09/14/2022 CAMPO&nbsp;</a></p>
X-ALT-DESC;FMTTYPE=text/html:<p><a href="https://www.carsoncity.gov/home/showpublisheddocument/81827/637982526993970000" target="_blank">CAMPO&nbsp;Agenda with Supporting Materials</a></p><p data-uw-styling-context="true"><a href="https://www.carsoncity.gov/government/city-meetings" data-uw-styling-context="true">Livestream</a></p><p data-uw-styling-context="true"><a href="https://www.carsoncity.gov/home/showpublisheddocument/81829/637982529679330000" target="_blank">Agenda:&nbsp; &nbsp;09/14/2022 CAMPO&nbsp;</a></p>
LOCATION:Community Center\, Robert "Bob" Crowell Board Room\, 851 East William Street Carson City\, Nevada 89701
CLASS:PUBLIC
END:VEVENT
END:VCALENDAR
