BEGIN:VCALENDAR
VERSION:2.0
PRODID:Carson City Calendar Creator
METHOD:PUBLISH
BEGIN:VEVENT
DTSTAMP:20220804T150531
DTSTART:20220810T163000
DTEND:20220810T193000
SUMMARY:Carson Area Metropolitan Planning Organization
DESCRIPTION:<p><a href="https://www.carsoncity.gov/home/showpublisheddocument/81437/637952222930800000" target="_blank">CAMPO&nbsp;Agenda with Supporting Materials</a></p><p data-uw-styling-context="true"><a href="https://www.carsoncity.gov/government/city-meetings" data-uw-styling-context="true">Livestream</a></p><p data-uw-styling-context="true"><a href="https://www.carsoncity.gov/home/showpublisheddocument/81439/637952223250130000" target="_blank">Agenda:&nbsp; &nbsp;08/10/2022 CAMPO Agenda</a></p>
X-ALT-DESC;FMTTYPE=text/html:<p><a href="https://www.carsoncity.gov/home/showpublisheddocument/81437/637952222930800000" target="_blank">CAMPO&nbsp;Agenda with Supporting Materials</a></p><p data-uw-styling-context="true"><a href="https://www.carsoncity.gov/government/city-meetings" data-uw-styling-context="true">Livestream</a></p><p data-uw-styling-context="true"><a href="https://www.carsoncity.gov/home/showpublisheddocument/81439/637952223250130000" target="_blank">Agenda:&nbsp; &nbsp;08/10/2022 CAMPO Agenda</a></p>
LOCATION:Community Center\, Robert "Bob" Crowell Board Room\, 851 East William Street Carson City\, Nevada 89701
CLASS:PUBLIC
END:VEVENT
END:VCALENDAR
