BEGIN:VCALENDAR
VERSION:2.0
PRODID:Carson City Calendar Creator
METHOD:PUBLISH
BEGIN:VEVENT
DTSTAMP:20220708T084311
DTSTART:20220713T163000
DTEND:20220713T193000
SUMMARY:Carson Area Metropolitan Planning Organization
DESCRIPTION:<p>For supporting materials, please see:<a href="https://www.carsoncity.gov/government/departments-g-z/public-works/transportation/rtc-and-campo-agendas/campo-agendas" target="_blank"> CAMPO Agendas</a></p><p><a href="https://www.carsoncity.gov/government/city-meetings/-fsiteid-1#!/" target="_blank">Webcast</a></p><p data-uw-styling-context="true"><a href="https://www.carsoncity.gov/home/showpublisheddocument/81094/637928051588630000" target="_blank">Agenda:&nbsp; &nbsp;07/13/2022 CAMPO Agenda</a></p>
X-ALT-DESC;FMTTYPE=text/html:<p>For supporting materials, please see:<a href="https://www.carsoncity.gov/government/departments-g-z/public-works/transportation/rtc-and-campo-agendas/campo-agendas" target="_blank"> CAMPO Agendas</a></p><p><a href="https://www.carsoncity.gov/government/city-meetings/-fsiteid-1#!/" target="_blank">Webcast</a></p><p data-uw-styling-context="true"><a href="https://www.carsoncity.gov/home/showpublisheddocument/81094/637928051588630000" target="_blank">Agenda:&nbsp; &nbsp;07/13/2022 CAMPO Agenda</a></p>
LOCATION:Community Center\, Robert "Bob" Crowell Board Room\, 851 East William Street Carson City\, Nevada 89701
CLASS:PUBLIC
END:VEVENT
END:VCALENDAR
