BEGIN:VCALENDAR
VERSION:2.0
PRODID:Carson City Calendar Creator
METHOD:PUBLISH
BEGIN:VEVENT
DTSTAMP:20210823T105821
DTSTART:20220112T163000
DTEND:20220112T183000
SUMMARY:Regional Transportation Commission
DESCRIPTION:<p>The Regional Transportation Commission is pleased to make reasonable<br>accommodations for members of the public who are disabled and wish to attend the meeting. If special<br>arrangements for the meeting are necessary, please notify Regional Transportation Commission staff in<br>writing at 3505 Butti Way, Carson City, Nevada, 89701, or call Lucia Maloney at (775) 887-2355 at<br>least 24 hours in advance.</p><p><a href="https://www.carsoncity.gov/government/departments-g-z/public-works/transportation/rtc-and-campo-agendas">RTC Agendas</a> </p>
X-ALT-DESC;FMTTYPE=text/html:<p>The Regional Transportation Commission is pleased to make reasonable<br>accommodations for members of the public who are disabled and wish to attend the meeting. If special<br>arrangements for the meeting are necessary, please notify Regional Transportation Commission staff in<br>writing at 3505 Butti Way, Carson City, Nevada, 89701, or call Lucia Maloney at (775) 887-2355 at<br>least 24 hours in advance.</p><p><a href="https://www.carsoncity.gov/government/departments-g-z/public-works/transportation/rtc-and-campo-agendas">RTC Agendas</a> </p>
LOCATION:Community Center\, Robert "Bob" Crowell Board Room\, 851 East William Street Carson City\, Nevada 89701
CLASS:PUBLIC
END:VEVENT
END:VCALENDAR
