BEGIN:VCALENDAR
VERSION:2.0
PRODID:Carson City Calendar Creator
METHOD:PUBLISH
BEGIN:VEVENT
DTSTAMP:20220407T071821
DTSTART:20220413T163000
DTEND:20220413T183000
SUMMARY:Regional Transportation Commission
DESCRIPTION:<ul custom_fields"="" data-uw-styling-context="true"></ul>    <p>    <div data-uw-styling-context="true"></div>    </p>    <p data-uw-styling-context="true"><a href="https://www.carsoncity.gov/home/showpublisheddocument/79846/637849122875970000" target="_blank">RTC Agenda with Supporting Materials</a></p>    <p data-uw-styling-context="true"><a href="https://www.carsoncity.gov/government/city-meetings" data-uw-styling-context="true">Livestream</a></p>    <p>    <div data-uw-styling-context="true"></div>    <div data-uw-styling-context="true"></div>    &nbsp;</p>    <p>    </p>
X-ALT-DESC;FMTTYPE=text/html:<ul custom_fields"="" data-uw-styling-context="true"></ul>    <p>    <div data-uw-styling-context="true"></div>    </p>    <p data-uw-styling-context="true"><a href="https://www.carsoncity.gov/home/showpublisheddocument/79846/637849122875970000" target="_blank">RTC Agenda with Supporting Materials</a></p>    <p data-uw-styling-context="true"><a href="https://www.carsoncity.gov/government/city-meetings" data-uw-styling-context="true">Livestream</a></p>    <p>    <div data-uw-styling-context="true"></div>    <div data-uw-styling-context="true"></div>    &nbsp;</p>    <p>    </p>
LOCATION:Community Center\, Robert "Bob" Crowell Board Room\, 851 East William Street Carson City\, Nevada 89701
CLASS:PUBLIC
END:VEVENT
END:VCALENDAR
