BEGIN:VCALENDAR
VERSION:2.0
PRODID:Carson City Calendar Creator
METHOD:PUBLISH
BEGIN:VEVENT
DTSTAMP:20220708T083919
DTSTART:20220713T163000
DTEND:20220713T183000
SUMMARY:Regional Transportation Commission
DESCRIPTION:<p><a href="https://www.carsoncity.gov/home/showpublisheddocument/81101/637928662459030000" target="_blank">RTC Agenda with Supporting Materials</a></p><p data-uw-styling-context="true"><a href="https://www.carsoncity.gov/government/city-meetings/-fsiteid-1#!/" data-uw-styling-context="true" target="_blank">&nbsp;</a><a href="https://www.carsoncity.gov/government/city-meetings/-fsiteid-1#!/" target="_blank">Webcast</a></p><p data-uw-styling-context="true"><a href="https://www.carsoncity.gov/home/showpublisheddocument/81103/637928663518770000" target="_blank">Agenda:07/13/2022 RTC Agenda</a></p>
X-ALT-DESC;FMTTYPE=text/html:<p><a href="https://www.carsoncity.gov/home/showpublisheddocument/81101/637928662459030000" target="_blank">RTC Agenda with Supporting Materials</a></p><p data-uw-styling-context="true"><a href="https://www.carsoncity.gov/government/city-meetings/-fsiteid-1#!/" data-uw-styling-context="true" target="_blank">&nbsp;</a><a href="https://www.carsoncity.gov/government/city-meetings/-fsiteid-1#!/" target="_blank">Webcast</a></p><p data-uw-styling-context="true"><a href="https://www.carsoncity.gov/home/showpublisheddocument/81103/637928663518770000" target="_blank">Agenda:07/13/2022 RTC Agenda</a></p>
LOCATION:Community Center\, Robert "Bob" Crowell Board Room\, 851 East William Street Carson City\, Nevada 89701
CLASS:PUBLIC
END:VEVENT
END:VCALENDAR
