BEGIN:VCALENDAR
VERSION:2.0
PRODID:Carson City Calendar Creator
METHOD:PUBLISH
BEGIN:VEVENT
DTSTAMP:20220914T150014
DTSTART:20220914T163000
DTEND:20220914T183000
SUMMARY:Regional Transportation Commission
DESCRIPTION:<p><a href="https://www.carsoncity.gov/home/showpublisheddocument/81831/637982540874230000" target="_blank">RTC Agenda with Supporting Materials</a></p><p><a href="https://www.carsoncity.gov/home/showpublisheddocument/81913/637987636847100000" target="_blank">***Late Material*** Item 5B Exhibit 1: JAC Fixed Route Policy and Procedures- REV</a></p><p data-uw-styling-context="true"><a href="https://www.carsoncity.gov/government/city-meetings" data-uw-styling-context="true">Livestream</a></p><p data-uw-styling-context="true"><a href="https://www.carsoncity.gov/home/showpublisheddocument/81833/637982541291030000" target="_blank">Agenda:09/14/2022 RTC</a></p>
X-ALT-DESC;FMTTYPE=text/html:<p><a href="https://www.carsoncity.gov/home/showpublisheddocument/81831/637982540874230000" target="_blank">RTC Agenda with Supporting Materials</a></p><p><a href="https://www.carsoncity.gov/home/showpublisheddocument/81913/637987636847100000" target="_blank">***Late Material*** Item 5B Exhibit 1: JAC Fixed Route Policy and Procedures- REV</a></p><p data-uw-styling-context="true"><a href="https://www.carsoncity.gov/government/city-meetings" data-uw-styling-context="true">Livestream</a></p><p data-uw-styling-context="true"><a href="https://www.carsoncity.gov/home/showpublisheddocument/81833/637982541291030000" target="_blank">Agenda:09/14/2022 RTC</a></p>
LOCATION:Community Center\, Robert "Bob" Crowell Board Room\, 851 East William Street Carson City\, Nevada 89701
CLASS:PUBLIC
END:VEVENT
END:VCALENDAR
