BEGIN:VCALENDAR
VERSION:2.0
PRODID:Carson City Calendar Creator
METHOD:PUBLISH
BEGIN:VEVENT
DTSTAMP:20221006T162658
DTSTART:20221012T163000
DTEND:20221012T183000
SUMMARY:Regional Transportation Commission
DESCRIPTION:<p><a href="https://www.carsoncity.gov/home/showpublisheddocument/82141/638006701508930000" target="_blank">RTC Agenda with Supporting Materials</a></p><p data-uw-styling-context="true"><a href="https://www.carsoncity.gov/government/city-meetings" data-uw-styling-context="true">Livestream</a></p><p data-uw-styling-context="true"><a href="https://www.carsoncity.gov/home/showpublisheddocument/82137/638006697961830000" target="_blank">Agenda:10/12/2022 RTC Agenda</a></p><p>&nbsp;</p>
X-ALT-DESC;FMTTYPE=text/html:<p><a href="https://www.carsoncity.gov/home/showpublisheddocument/82141/638006701508930000" target="_blank">RTC Agenda with Supporting Materials</a></p><p data-uw-styling-context="true"><a href="https://www.carsoncity.gov/government/city-meetings" data-uw-styling-context="true">Livestream</a></p><p data-uw-styling-context="true"><a href="https://www.carsoncity.gov/home/showpublisheddocument/82137/638006697961830000" target="_blank">Agenda:10/12/2022 RTC Agenda</a></p><p>&nbsp;</p>
LOCATION:Community Center\, Robert "Bob" Crowell Board Room\, 851 East William Street Carson City\, Nevada 89701
CLASS:PUBLIC
END:VEVENT
END:VCALENDAR
