BEGIN:VCALENDAR
VERSION:2.0
PRODID:Carson City Calendar Creator
METHOD:PUBLISH
BEGIN:VEVENT
DTSTAMP:20211230T124547
DTSTART:20220106T083000
DTEND:20220106T235900
SUMMARY:Board of Supervisors
DESCRIPTION:<p><a href="https://www.carsoncity.gov/government/city-meetings-live-broadcast-and-archives/agendas/board-of-supervisors-agendas-with-supporting-materials/2022-agendas-with-supporting-materials/01-06-2022-agenda-with-supporting-materials">Agenda with supporting materials.&nbsp;</a></p><p><a href="https://www.carsoncity.gov/government/city-meetings">Livestream</a></p><br>
X-ALT-DESC;FMTTYPE=text/html:<p><a href="https://www.carsoncity.gov/government/city-meetings-live-broadcast-and-archives/agendas/board-of-supervisors-agendas-with-supporting-materials/2022-agendas-with-supporting-materials/01-06-2022-agenda-with-supporting-materials">Agenda with supporting materials.&nbsp;</a></p><p><a href="https://www.carsoncity.gov/government/city-meetings">Livestream</a></p><br>
LOCATION:Community Center\, Robert "Bob" Crowell Board Room\, 851 East William Street Carson City\, Nevada 89701
CLASS:PUBLIC
END:VEVENT
END:VCALENDAR
