BEGIN:VCALENDAR
VERSION:2.0
PRODID:Carson City Calendar Creator
METHOD:PUBLISH
BEGIN:VEVENT
DTSTAMP:20211209T163847
DTSTART:20211216T083000
DTEND:20211216T235900
SUMMARY:Board of Supervisors
DESCRIPTION:<p><a href="https://www.carsoncity.gov/government/city-meetings-live-broadcast-and-archives/agendas/board-of-supervisors-agendas-with-supporting-materials/2021-agendas-with-supporting-materials/12-16-21-agenda-w-supporting-materials">Agenda with Supporting Materials</a></p><p><a href="https://www.carsoncity.gov/government/city-meetings">Livestream</a></p><a href="https://www.carsoncity.gov/home/showpublisheddocument/78199/637738719543070000" target="_blank">Notice to the Public:&nbsp;Conveyance of Carson City Property, Without Consideration, for the Development of Affordable Housing 2.91 Acres of 3410 Butti Way (APN 010-037-04)</a>
X-ALT-DESC;FMTTYPE=text/html:<p><a href="https://www.carsoncity.gov/government/city-meetings-live-broadcast-and-archives/agendas/board-of-supervisors-agendas-with-supporting-materials/2021-agendas-with-supporting-materials/12-16-21-agenda-w-supporting-materials">Agenda with Supporting Materials</a></p><p><a href="https://www.carsoncity.gov/government/city-meetings">Livestream</a></p><a href="https://www.carsoncity.gov/home/showpublisheddocument/78199/637738719543070000" target="_blank">Notice to the Public:&nbsp;Conveyance of Carson City Property, Without Consideration, for the Development of Affordable Housing 2.91 Acres of 3410 Butti Way (APN 010-037-04)</a>
LOCATION:Community Center\, Robert "Bob" Crowell Board Room\, 851 East William Street Carson City\, Nevada 89701
CLASS:PUBLIC
END:VEVENT
END:VCALENDAR
