BEGIN:VCALENDAR
VERSION:2.0
PRODID:Carson City Calendar Creator
METHOD:PUBLISH
BEGIN:VEVENT
DTSTAMP:20211028T164917
DTSTART:20211104T083000
DTEND:20211104T235900
SUMMARY:Board of Supervisors
DESCRIPTION:<p><a href="https://www.carsoncity.gov/government/city-meetings-live-broadcast-and-archives/agendas/board-of-supervisors-agendas-with-supporting-materials/2021-agendas-with-supporting-materials/11-04-21-agenda-with-supporting-materials">Agenda w/ Supporting Materials</a></p><p><a href="https://www.carsoncity.gov/government/city-meetings">Livestream</a></p><br>
X-ALT-DESC;FMTTYPE=text/html:<p><a href="https://www.carsoncity.gov/government/city-meetings-live-broadcast-and-archives/agendas/board-of-supervisors-agendas-with-supporting-materials/2021-agendas-with-supporting-materials/11-04-21-agenda-with-supporting-materials">Agenda w/ Supporting Materials</a></p><p><a href="https://www.carsoncity.gov/government/city-meetings">Livestream</a></p><br>
LOCATION:Community Center\, Robert "Bob" Crowell Board Room\, 851 East William Street Carson City\, Nevada 89701
CLASS:PUBLIC
END:VEVENT
END:VCALENDAR
