BEGIN:VCALENDAR
VERSION:2.0
PRODID:Carson City Calendar Creator
METHOD:PUBLISH
BEGIN:VEVENT
DTSTAMP:20201014T122157
DTSTART:20211111T000000
DTEND:20211111T235900
SUMMARY:Veterans Day
DESCRIPTION:All administrative offices are closed.&nbsp;
X-ALT-DESC;FMTTYPE=text/html:All administrative offices are closed.&nbsp;
LOCATION:
CLASS:PUBLIC
END:VEVENT
END:VCALENDAR
