BEGIN:VCALENDAR
VERSION:2.0
PRODID:Carson City Calendar Creator
METHOD:PUBLISH
BEGIN:VEVENT
DTSTAMP:20201014T122831
DTSTART:20211224T000000
DTEND:20211224T235900
SUMMARY:Christmas
DESCRIPTION:All administrative offices are closed.&nbsp;
X-ALT-DESC;FMTTYPE=text/html:All administrative offices are closed.&nbsp;
LOCATION:
CLASS:PUBLIC
END:VEVENT
END:VCALENDAR
