BEGIN:VCALENDAR
VERSION:2.0
PRODID:Carson City Calendar Creator
METHOD:PUBLISH
BEGIN:VEVENT
DTSTAMP:20211012T073502
DTSTART:20211018T173000
DTEND:20211018T213000
SUMMARY:Open Space Advisory Committee Meeting
DESCRIPTION:<p><a href="https://www.carsoncity.gov/home/showpublisheddocument/77630/637696192213414813" target="_blank">Agenda</a></p><p><a href="https://www.carsoncity.gov/government/city-meetings-live-broadcast-and-archives/agendas/open-space-advisory-committee-meetings-with-supporting-materials/2021-agendas-with-supporting-materials/10-18-2021-agenda-with-supporting-materials/-fsiteid-1#!/" target="_blank">Agenda with Supporting Materials</a></p>
X-ALT-DESC;FMTTYPE=text/html:<p><a href="https://www.carsoncity.gov/home/showpublisheddocument/77630/637696192213414813" target="_blank">Agenda</a></p><p><a href="https://www.carsoncity.gov/government/city-meetings-live-broadcast-and-archives/agendas/open-space-advisory-committee-meetings-with-supporting-materials/2021-agendas-with-supporting-materials/10-18-2021-agenda-with-supporting-materials/-fsiteid-1#!/" target="_blank">Agenda with Supporting Materials</a></p>
LOCATION:
CLASS:PUBLIC
END:VEVENT
END:VCALENDAR
