BEGIN:VCALENDAR
VERSION:2.0
PRODID:Carson City Calendar Creator
METHOD:PUBLISH
BEGIN:VEVENT
DTSTAMP:20211130T121038
DTSTART:20211207T173000
DTEND:20211207T213000
SUMMARY:Joint meeting of the Open Space Advisory Committee & the Parks and Recreation Commission
DESCRIPTION:<p><a href="https://www.carsoncity.gov/home/showpublisheddocument/78193" target="_blank">Agenda</a></p><p><a href="https://www.carsoncity.gov/government/city-meetings-live-broadcast-and-archives/agendas/parks-and-recreation-commission-agenda-with-supporting-materials/12-07-2021-joint-agenda-with-supporting-materials" target="_blank">Agenda with Supporting Materials</a></p>
X-ALT-DESC;FMTTYPE=text/html:<p><a href="https://www.carsoncity.gov/home/showpublisheddocument/78193" target="_blank">Agenda</a></p><p><a href="https://www.carsoncity.gov/government/city-meetings-live-broadcast-and-archives/agendas/parks-and-recreation-commission-agenda-with-supporting-materials/12-07-2021-joint-agenda-with-supporting-materials" target="_blank">Agenda with Supporting Materials</a></p>
LOCATION:
CLASS:PUBLIC
END:VEVENT
END:VCALENDAR
