BEGIN:VCALENDAR
VERSION:2.0
PRODID:Carson City Calendar Creator
METHOD:PUBLISH
BEGIN:VEVENT
DTSTAMP:20210928T092350
DTSTART:20211005T173000
DTEND:20211005T213000
SUMMARY:CANCELLED - Parks and Recreation Commission Meeting
DESCRIPTION:<a href="https://www.carsoncity.gov/home/showpublisheddocument/77466/637684169586630000" target="_blank">Notice of Cancellation</a>
X-ALT-DESC;FMTTYPE=text/html:<a href="https://www.carsoncity.gov/home/showpublisheddocument/77466/637684169586630000" target="_blank">Notice of Cancellation</a>
LOCATION:
CLASS:PUBLIC
END:VEVENT
END:VCALENDAR
