BEGIN:VCALENDAR
VERSION:2.0
PRODID:Carson City Calendar Creator
METHOD:PUBLISH
BEGIN:VEVENT
DTSTAMP:20210423T105127
DTSTART:20211028T130000
DTEND:20211028T235900
SUMMARY:V&T Railway Commission
DESCRIPTION:<p><a href="https://vtrailway.com/about/vt-commission/" target="_blank">&nbsp;Click here to view agendas &amp; meeting information</a></p><p>For more information call (775) 687-7410.</p>
X-ALT-DESC;FMTTYPE=text/html:<p><a href="https://vtrailway.com/about/vt-commission/" target="_blank">&nbsp;Click here to view agendas &amp; meeting information</a></p><p>For more information call (775) 687-7410.</p>
LOCATION:Community Center\, Robert "Bob" Crowell Board Room\, 851 East William Street Carson City\, Nevada 89701
CLASS:PUBLIC
END:VEVENT
END:VCALENDAR
