BEGIN:VCALENDAR
VERSION:2.0
PRODID:Carson City Calendar Creator
METHOD:PUBLISH
BEGIN:VEVENT
DTSTAMP:20211215T095127
DTSTART:20220126T090000
DTEND:20220126T120000
SUMMARY:V&T Railway Commission
DESCRIPTION:<p><a href="https://vtrailway.com/about/vt-commission/" target="_blank">Click here to view agendas &amp; meeting information</a></p><p>For more information call (775) 687-7410.</p>
X-ALT-DESC;FMTTYPE=text/html:<p><a href="https://vtrailway.com/about/vt-commission/" target="_blank">Click here to view agendas &amp; meeting information</a></p><p>For more information call (775) 687-7410.</p>
LOCATION:Community Center\, Robert "Bob" Crowell Board Room\, 851 East William Street Carson City\, Nevada 89701
CLASS:PUBLIC
END:VEVENT
END:VCALENDAR
