BEGIN:VCALENDAR
VERSION:2.0
PRODID:Carson City Calendar Creator
METHOD:PUBLISH
BEGIN:VEVENT
DTSTAMP:20210817T114302
DTSTART:20210922T180000
DTEND:20210922T210000
SUMMARY:Sheriff’s Citizen Academy
DESCRIPTION:<p>If you are interested in attending the Fall 2021 Citizens Academy, please contact Colleen Schiller at 775-283-7810 for further information OR pick up an application during business hours at the Front Counter of the Sheriff’s Office.&nbsp; Applications must be received by Friday, September 10th.&nbsp; Space is limited by available seating and any possible COVID restrictions.</p>
X-ALT-DESC;FMTTYPE=text/html:<p>If you are interested in attending the Fall 2021 Citizens Academy, please contact Colleen Schiller at 775-283-7810 for further information OR pick up an application during business hours at the Front Counter of the Sheriff’s Office.&nbsp; Applications must be received by Friday, September 10th.&nbsp; Space is limited by available seating and any possible COVID restrictions.</p>
LOCATION:Carson City Sheriff's Office Ormsby Room\, 911 East Musser Street Carson City\, Nevada 89701
CLASS:PUBLIC
END:VEVENT
END:VCALENDAR
