BEGIN:VCALENDAR
VERSION:2.0
PRODID:Carson City Calendar Creator
METHOD:PUBLISH
BEGIN:VEVENT
DTSTAMP:20251022T152427
DTSTART:20211004T080000
DTEND:20211004T170000
SUMMARY:Reminder-Property Tax Due
DESCRIPTION:<p><strong>ON MONDAY, OCTOBER 4, 2021 THE SECOND INSTALLMENT OF THE FISCAL YEAR 2021-2022 REAL PROPERTY TAXES</strong> are due and payable in the office of the Carson City Treasurer, located inside City Hall, 201 N. Carson Street, Suite # 5. If not paid within ten (10) days of <strong>October 4, 2021 (on or before October 14, 2021)</strong>, taxes will become delinquent and penalties will be added.</p><p>&nbsp;For your convenience, you can make a payment online at&nbsp;<a href="https://protect-us.mimecast.com/s/Hv-FCVOymPsxk704cQdeIv?domain=carsoncitynv.devnetwedge.com" target="_blank">&nbsp;</a>carsoncity.gov</p><p><em><b><u>&nbsp;If you already made a payment, please disregard this notice.</u></b></em></p>
X-ALT-DESC;FMTTYPE=text/html:<p><strong>ON MONDAY, OCTOBER 4, 2021 THE SECOND INSTALLMENT OF THE FISCAL YEAR 2021-2022 REAL PROPERTY TAXES</strong> are due and payable in the office of the Carson City Treasurer, located inside City Hall, 201 N. Carson Street, Suite # 5. If not paid within ten (10) days of <strong>October 4, 2021 (on or before October 14, 2021)</strong>, taxes will become delinquent and penalties will be added.</p><p>&nbsp;For your convenience, you can make a payment online at&nbsp;<a href="https://protect-us.mimecast.com/s/Hv-FCVOymPsxk704cQdeIv?domain=carsoncitynv.devnetwedge.com" target="_blank">&nbsp;</a>carsoncity.gov</p><p><em><b><u>&nbsp;If you already made a payment, please disregard this notice.</u></b></em></p>
LOCATION:City Hall\, 201 North Carson Street Carson City\, Nevada 89701
CLASS:PUBLIC
END:VEVENT
END:VCALENDAR
