BEGIN:VCALENDAR
VERSION:2.0
PRODID:Carson City Calendar Creator
METHOD:PUBLISH
BEGIN:VEVENT
DTSTAMP:20211012T102719
DTSTART:20211014T140000
DTEND:20211014T235900
SUMMARY:Cultural Commission - Cancelled
DESCRIPTION:<p><a href="https://www.carsoncity.gov/home/showpublisheddocument/77604/637695364726030000" target="_blank">Agenda</a></p><p><a href="https://www.carsoncity.gov/home/showpublisheddocument/77606/637695366985370000" target="_blank">Agenda w/ Supporting Materials</a></p><p><a href="https://www.carsoncity.gov/government/city-meetings">Webcast</a></p><p>&nbsp;</p>
X-ALT-DESC;FMTTYPE=text/html:<p><a href="https://www.carsoncity.gov/home/showpublisheddocument/77604/637695364726030000" target="_blank">Agenda</a></p><p><a href="https://www.carsoncity.gov/home/showpublisheddocument/77606/637695366985370000" target="_blank">Agenda w/ Supporting Materials</a></p><p><a href="https://www.carsoncity.gov/government/city-meetings">Webcast</a></p><p>&nbsp;</p>
LOCATION:Community Center\, Robert "Bob" Crowell Board Room\, 851 East William Street Carson City\, Nevada 89701
CLASS:PUBLIC
END:VEVENT
END:VCALENDAR
