BEGIN:VCALENDAR
VERSION:2.0
PRODID:Carson City Calendar Creator
METHOD:PUBLISH
BEGIN:VEVENT
DTSTAMP:20211005T163701
DTSTART:20211011T180000
DTEND:20211011T235900
SUMMARY:Special Joint Meeting with Carson City Culture & Tourism Authority and the Cultural Commission
DESCRIPTION:<p><a href="https://visitcarsoncity.com/travel-industry/meetings/" target="_blank">Click here to view agenda &amp; meeting information.</a></p><p>&nbsp;</p>
X-ALT-DESC;FMTTYPE=text/html:<p><a href="https://visitcarsoncity.com/travel-industry/meetings/" target="_blank">Click here to view agenda &amp; meeting information.</a></p><p>&nbsp;</p>
LOCATION:Community Center\, Bob Boldrick Theater\, 851 East William Street Carson City\, Nevada 89701-3123
CLASS:PUBLIC
END:VEVENT
END:VCALENDAR
