BEGIN:VCALENDAR
VERSION:2.0
PRODID:Carson City Calendar Creator
METHOD:PUBLISH
BEGIN:VEVENT
DTSTAMP:20211007T155909
DTSTART:20211013T110000
DTEND:20211013T130000
SUMMARY:Debt Management Commission
DESCRIPTION:<p><a href="https://www.carsoncity.gov/home/showpublisheddocument/77574/637691993314430000" target="_blank">10-13-2021 Debt Management Commission agenda</a></p><p><a href="https://www.carsoncity.gov/home/showpublisheddocument/77576/637691993728330000" target="_blank">08-10-2021 DRAFT Minutes</a></p><p><a href="https://www.carsoncity.gov/home/showpublisheddocument/77582/637692191414530000" target="_blank">staff reports.support material 10-13-21 DMC</a> </p>
X-ALT-DESC;FMTTYPE=text/html:<p><a href="https://www.carsoncity.gov/home/showpublisheddocument/77574/637691993314430000" target="_blank">10-13-2021 Debt Management Commission agenda</a></p><p><a href="https://www.carsoncity.gov/home/showpublisheddocument/77576/637691993728330000" target="_blank">08-10-2021 DRAFT Minutes</a></p><p><a href="https://www.carsoncity.gov/home/showpublisheddocument/77582/637692191414530000" target="_blank">staff reports.support material 10-13-21 DMC</a> </p>
LOCATION:Community Center\, Robert "Bob" Crowell Board Room\, 851 East William Street Carson City\, Nevada 89701
CLASS:PUBLIC
END:VEVENT
END:VCALENDAR
