BEGIN:VCALENDAR
VERSION:2.0
PRODID:Carson City Calendar Creator
METHOD:PUBLISH
BEGIN:VEVENT
DTSTAMP:20211014T171015
DTSTART:20211021T163000
DTEND:20211021T235900
SUMMARY:Cultural Commission
DESCRIPTION:<p><a href="https://www.carsoncity.gov/home/showpublisheddocument/77704/637698278822400000" target="_blank">Agenda&nbsp;</a></p><p><a href="https://www.carsoncity.gov/government/city-meetings-live-broadcast-and-archives/agendas/cultural-commission-agendas-and-supporting-materials">Agenda w/ Supporting Materials</a></p><p><a href="https://www.carsoncity.gov/government/city-meetings">Webcast</a></p>
X-ALT-DESC;FMTTYPE=text/html:<p><a href="https://www.carsoncity.gov/home/showpublisheddocument/77704/637698278822400000" target="_blank">Agenda&nbsp;</a></p><p><a href="https://www.carsoncity.gov/government/city-meetings-live-broadcast-and-archives/agendas/cultural-commission-agendas-and-supporting-materials">Agenda w/ Supporting Materials</a></p><p><a href="https://www.carsoncity.gov/government/city-meetings">Webcast</a></p>
LOCATION:Community Center\, Robert "Bob" Crowell Board Room\, 851 East William Street Carson City\, Nevada 89701
CLASS:PUBLIC
END:VEVENT
END:VCALENDAR
