BEGIN:VCALENDAR
VERSION:2.0
PRODID:Carson City Calendar Creator
METHOD:PUBLISH
BEGIN:VEVENT
DTSTAMP:20211019T100613
DTSTART:20211105T170000
DTEND:20211105T220000
SUMMARY:"Can't Dodge This" Dodgeball Tournament
DESCRIPTION:This is a coed dodgeball tournament as a fundraiser for youth scholarships through Carson City Parks, Recreation &amp; Open Space.&nbsp;
X-ALT-DESC;FMTTYPE=text/html:This is a coed dodgeball tournament as a fundraiser for youth scholarships through Carson City Parks, Recreation &amp; Open Space.&nbsp;
LOCATION:
CLASS:PUBLIC
END:VEVENT
END:VCALENDAR
