BEGIN:VCALENDAR
VERSION:2.0
PRODID:Carson City Calendar Creator
METHOD:PUBLISH
BEGIN:VEVENT
DTSTAMP:20211025T085338
DTSTART:20211101T163000
DTEND:20211101T183000
SUMMARY:Advisory Board to Manage Wildlife
DESCRIPTION:<p><a href="https://www.carsoncity.gov/home/showpublisheddocument/77772/637707483713300000" target="_blank">Advisory Board to Manage Wildlife agenda 11-1-2021</a></p><p><a href="https://www.carsoncity.gov/home/showpublisheddocument/77774/637707483981600000" target="_blank">09-20-2021 DRAFT minutes</a></p><p><a href="https://www.carsoncity.gov/home/showpublisheddocument/77776/637707484349270000" target="_blank">Support Material 11-1-2021</a></p>
X-ALT-DESC;FMTTYPE=text/html:<p><a href="https://www.carsoncity.gov/home/showpublisheddocument/77772/637707483713300000" target="_blank">Advisory Board to Manage Wildlife agenda 11-1-2021</a></p><p><a href="https://www.carsoncity.gov/home/showpublisheddocument/77774/637707483981600000" target="_blank">09-20-2021 DRAFT minutes</a></p><p><a href="https://www.carsoncity.gov/home/showpublisheddocument/77776/637707484349270000" target="_blank">Support Material 11-1-2021</a></p>
LOCATION:Carson City Community Center\, Bonanza Room\, 851 East Musser Street Carson City\, Nevada 89701
CLASS:PUBLIC
END:VEVENT
END:VCALENDAR
