BEGIN:VCALENDAR
VERSION:2.0
PRODID:Carson City Calendar Creator
METHOD:PUBLISH
BEGIN:VEVENT
DTSTAMP:20211105T083337
DTSTART:20211110T130000
DTEND:20211110T235900
SUMMARY:Special Concurrent Meeting of the Board of Supervisors and the Washoe County Board of County Commissioners
DESCRIPTION:<p><a href="https://www.carsoncity.gov/home/showpublisheddocument/77929/637716947168570000" target="_blank">Agenda</a></p><p><a href="https://www.carsoncity.gov/home/showpublisheddocument/77933/637716978654700000" target="_blank">Agenda w/ Supporting Materials</a></p><p><a href="https://us02web.zoom.us/j/84752589372" target="_blank">Livestream</a></p>
X-ALT-DESC;FMTTYPE=text/html:<p><a href="https://www.carsoncity.gov/home/showpublisheddocument/77929/637716947168570000" target="_blank">Agenda</a></p><p><a href="https://www.carsoncity.gov/home/showpublisheddocument/77933/637716978654700000" target="_blank">Agenda w/ Supporting Materials</a></p><p><a href="https://us02web.zoom.us/j/84752589372" target="_blank">Livestream</a></p>
LOCATION:Washoe County Commission Chambers\, 1001 E. 9th Street Reno\, Nevada 89512
CLASS:PUBLIC
END:VEVENT
END:VCALENDAR
