BEGIN:VCALENDAR
VERSION:2.0
PRODID:Carson City Calendar Creator
METHOD:PUBLISH
BEGIN:VEVENT
DTSTAMP:20211123T122131
DTSTART:20211130T130000
DTEND:20211130T235900
SUMMARY:V&T Railway Commission Meeting
DESCRIPTION:<p><a href="https://vtrailway.com/about/vt-commission/" target="_blank">Click here to view agendas &amp; meeting information</a></p><p>For more information call (775) 687-7410.</p>
X-ALT-DESC;FMTTYPE=text/html:<p><a href="https://vtrailway.com/about/vt-commission/" target="_blank">Click here to view agendas &amp; meeting information</a></p><p>For more information call (775) 687-7410.</p>
LOCATION:
CLASS:PUBLIC
END:VEVENT
END:VCALENDAR
