BEGIN:VCALENDAR
VERSION:2.0
PRODID:Carson City Calendar Creator
METHOD:PUBLISH
BEGIN:VEVENT
DTSTAMP:20211124T153532
DTSTART:20211201T173000
DTEND:20211201T235900
SUMMARY:Carson City Library Board of Trustees
DESCRIPTION:Agenda and Supporting Materials:&nbsp;<a href="https://carsoncitylibrary.org/board-meetings/" target="_blank">https://carsoncitylibrary.org/board-meetings/</a>
X-ALT-DESC;FMTTYPE=text/html:Agenda and Supporting Materials:&nbsp;<a href="https://carsoncitylibrary.org/board-meetings/" target="_blank">https://carsoncitylibrary.org/board-meetings/</a>
LOCATION:Community Center\, Robert "Bob" Crowell Board Room\, 851 East William Street Carson City\, Nevada 89701
CLASS:PUBLIC
END:VEVENT
END:VCALENDAR
