BEGIN:VCALENDAR
VERSION:2.0
PRODID:Carson City Calendar Creator
METHOD:PUBLISH
BEGIN:VEVENT
DTSTAMP:20211130T082914
DTSTART:20211207T133000
DTEND:20211207T163000
SUMMARY:Audit Committee Meeting
DESCRIPTION:<p><a href="https://www.carsoncity.gov/government/city-meetings-live-broadcast-and-archives/agendas/audit-committee-agenda-with-supporting-materials">Agenda with Supporting Materials&nbsp;</a></p><p><a href="https://www.carsoncity.gov/government/city-meetings">Webcast</a></p>
X-ALT-DESC;FMTTYPE=text/html:<p><a href="https://www.carsoncity.gov/government/city-meetings-live-broadcast-and-archives/agendas/audit-committee-agenda-with-supporting-materials">Agenda with Supporting Materials&nbsp;</a></p><p><a href="https://www.carsoncity.gov/government/city-meetings">Webcast</a></p>
LOCATION:Community Center\, Robert "Bob" Crowell Board Room\, 851 East William Street Carson City\, Nevada 89701
CLASS:PUBLIC
END:VEVENT
END:VCALENDAR
