BEGIN:VCALENDAR
VERSION:2.0
PRODID:Carson City Calendar Creator
METHOD:PUBLISH
BEGIN:VEVENT
DTSTAMP:20220126T140933
DTSTART:20220201T173000
DTEND:20220201T213000
SUMMARY:Parks and Recreation Commission Meeting
DESCRIPTION:<p><a href="https://www.carsoncity.gov/home/showpublisheddocument/78722/637787830546302698" target="_blank">Agenda</a></p><p><a href="https://www.carsoncity.gov/government/city-meetings-live-broadcast-and-archives/agendas/parks-and-recreation-commission-agenda-with-supporting-materials" target="_blank">Agenda with Supporting Materials</a></p>
X-ALT-DESC;FMTTYPE=text/html:<p><a href="https://www.carsoncity.gov/home/showpublisheddocument/78722/637787830546302698" target="_blank">Agenda</a></p><p><a href="https://www.carsoncity.gov/government/city-meetings-live-broadcast-and-archives/agendas/parks-and-recreation-commission-agenda-with-supporting-materials" target="_blank">Agenda with Supporting Materials</a></p>
LOCATION:Community Center\, Bob Boldrick Theater\, 851 East William Street Carson City\, Nevada 89701-3123
CLASS:PUBLIC
END:VEVENT
END:VCALENDAR
