BEGIN:VCALENDAR
VERSION:2.0
PRODID:Carson City Calendar Creator
METHOD:PUBLISH
BEGIN:VEVENT
DTSTAMP:20220330T111102
DTSTART:20220405T173000
DTEND:20220405T213000
SUMMARY:Parks and Recreation Commission Meeting
DESCRIPTION:<p><a href="https://www.carsoncity.gov/home/showpublisheddocument/79735" target="_blank">Agenda</a></p><p><a href="https://www.carsoncity.gov/government/city-meetings-live-broadcast-and-archives/agendas/parks-and-recreation-commission-agenda-with-supporting-materials/04-05-2022-agenda-with-supporting-materials#!/" target="_blank">Agenda with Supporting Materials</a></p><p>&nbsp;</p>
X-ALT-DESC;FMTTYPE=text/html:<p><a href="https://www.carsoncity.gov/home/showpublisheddocument/79735" target="_blank">Agenda</a></p><p><a href="https://www.carsoncity.gov/government/city-meetings-live-broadcast-and-archives/agendas/parks-and-recreation-commission-agenda-with-supporting-materials/04-05-2022-agenda-with-supporting-materials#!/" target="_blank">Agenda with Supporting Materials</a></p><p>&nbsp;</p>
LOCATION:Community Center\, Robert "Bob" Crowell Board Room\, 851 East William Street Carson City\, Nevada 89701
CLASS:PUBLIC
END:VEVENT
END:VCALENDAR
