BEGIN:VCALENDAR
VERSION:2.0
PRODID:Carson City Calendar Creator
METHOD:PUBLISH
BEGIN:VEVENT
DTSTAMP:20220810T112737
DTSTART:20220816T180000
DTEND:20220816T220000
SUMMARY:Joint Open Space Advisory Committee & Parks and Recreation Commission Meeting
DESCRIPTION:<p><a href="https://www.carsoncity.gov/home/showpublisheddocument/81481" target="_blank">Agenda</a></p><p><a href="https://www.carsoncity.gov/government/city-meetings-live-broadcast-and-archives/agendas/parks-and-recreation-commission-agenda-with-supporting-materials/08-16-2022-joint-agenda-with-supporting-materials" target="_blank">Agenda with Supporting Materials</a></p>
X-ALT-DESC;FMTTYPE=text/html:<p><a href="https://www.carsoncity.gov/home/showpublisheddocument/81481" target="_blank">Agenda</a></p><p><a href="https://www.carsoncity.gov/government/city-meetings-live-broadcast-and-archives/agendas/parks-and-recreation-commission-agenda-with-supporting-materials/08-16-2022-joint-agenda-with-supporting-materials" target="_blank">Agenda with Supporting Materials</a></p>
LOCATION:Community Center\, Robert "Bob" Crowell Board Room\, 851 East William Street Carson City\, Nevada 89701
CLASS:PUBLIC
END:VEVENT
END:VCALENDAR
