BEGIN:VCALENDAR
VERSION:2.0
PRODID:Carson City Calendar Creator
METHOD:PUBLISH
BEGIN:VEVENT
DTSTAMP:20221130T121503
DTSTART:20221206T173000
DTEND:20221206T220000
SUMMARY:Joint Open Space Advisory Committee & Parks and Recreation Commission Meeting
DESCRIPTION:<p><a href="https://www.carsoncity.gov/home/showpublisheddocument/82810" target="_blank">Agenda</a></p><p><a href="https://www.carsoncity.gov/government/city-meetings-live-broadcast-and-archives/agendas/open-space-advisory-committee-agendas-with-supporting-materials/12-06-2022-joint-agenda-with-supporting-materials" target="_blank">Agenda with Supporting Materials</a></p><p><a href="https://www.carsoncity.gov/government/city-meetings" target="_blank">Livestream</a></p>
X-ALT-DESC;FMTTYPE=text/html:<p><a href="https://www.carsoncity.gov/home/showpublisheddocument/82810" target="_blank">Agenda</a></p><p><a href="https://www.carsoncity.gov/government/city-meetings-live-broadcast-and-archives/agendas/open-space-advisory-committee-agendas-with-supporting-materials/12-06-2022-joint-agenda-with-supporting-materials" target="_blank">Agenda with Supporting Materials</a></p><p><a href="https://www.carsoncity.gov/government/city-meetings" target="_blank">Livestream</a></p>
LOCATION:Community Center\, Robert "Bob" Crowell Board Room\, 851 East William Street Carson City\, Nevada 89701
CLASS:PUBLIC
END:VEVENT
END:VCALENDAR
