BEGIN:VCALENDAR
VERSION:2.0
PRODID:Carson City Calendar Creator
METHOD:PUBLISH
BEGIN:VEVENT
DTSTAMP:20220414T111959
DTSTART:20220418T173000
DTEND:20220418T213000
SUMMARY:Open Space Advisory Committee Meeting
DESCRIPTION:<p><a href="https://www.carsoncity.gov/home/showpublisheddocument/79886" target="_blank">04/18/2022 Agenda</a></p><p><a href="https://www.carsoncity.gov/government/city-meetings-live-broadcast-and-archives/agendas/open-space-advisory-committee-agendas-with-supporting-materials/04-18-2022-agenda-with-supporting-materials#!/" target="_blank">04/18/2022 Agenda with Supporting Materials</a></p><p><a href="https://www.carsoncity.gov/government/city-meetings" target="_blank">Livestream</a></p><p>&nbsp;</p>
X-ALT-DESC;FMTTYPE=text/html:<p><a href="https://www.carsoncity.gov/home/showpublisheddocument/79886" target="_blank">04/18/2022 Agenda</a></p><p><a href="https://www.carsoncity.gov/government/city-meetings-live-broadcast-and-archives/agendas/open-space-advisory-committee-agendas-with-supporting-materials/04-18-2022-agenda-with-supporting-materials#!/" target="_blank">04/18/2022 Agenda with Supporting Materials</a></p><p><a href="https://www.carsoncity.gov/government/city-meetings" target="_blank">Livestream</a></p><p>&nbsp;</p>
LOCATION:Community Center\, Robert "Bob" Crowell Board Room\, 851 East William Street Carson City\, Nevada 89701
CLASS:PUBLIC
END:VEVENT
END:VCALENDAR
