BEGIN:VCALENDAR
VERSION:2.0
PRODID:Carson City Calendar Creator
METHOD:PUBLISH
BEGIN:VEVENT
DTSTAMP:20220623T090706
DTSTART:20220629T160000
DTEND:20220629T235900
SUMMARY:Growth Management Commission and Planning Commission
DESCRIPTION:<p>Growth Management Commission will begin at 4:00 PM&nbsp;</p><p>Planning Commission will begin at 5:00 PM&nbsp;</p><p>&nbsp;<a href="https://www.carsoncity.gov/government/city-meetings-live-broadcast-and-archives/agendas/planning-commission-agendas-with-supporting-materials/2022-agenda-with-supporting-materials/06-29-2022-growth-management-commission-and-planning-commission-agenda">Agenda with Supporting Material</a></p><p><a href="https://www.carsoncity.gov/our-city/city-meetings-agendas-minutes-and-broadcast">Webcast</a></p>
X-ALT-DESC;FMTTYPE=text/html:<p>Growth Management Commission will begin at 4:00 PM&nbsp;</p><p>Planning Commission will begin at 5:00 PM&nbsp;</p><p>&nbsp;<a href="https://www.carsoncity.gov/government/city-meetings-live-broadcast-and-archives/agendas/planning-commission-agendas-with-supporting-materials/2022-agenda-with-supporting-materials/06-29-2022-growth-management-commission-and-planning-commission-agenda">Agenda with Supporting Material</a></p><p><a href="https://www.carsoncity.gov/our-city/city-meetings-agendas-minutes-and-broadcast">Webcast</a></p>
LOCATION:Community Center\, Robert "Bob" Crowell Board Room\, 851 East William Street Carson City\, Nevada 89701
CLASS:PUBLIC
END:VEVENT
END:VCALENDAR
