BEGIN:VCALENDAR
VERSION:2.0
PRODID:Carson City Calendar Creator
METHOD:PUBLISH
BEGIN:VEVENT
DTSTAMP:20220824T133702
DTSTART:20220831T170000
DTEND:20220831T235900
SUMMARY:Planning Commission
DESCRIPTION:<p><a href="https://www.carsoncity.gov/government/city-meetings-live-broadcast-and-archives/agendas/planning-commission-agendas-with-supporting-materials/2022-agenda-with-supporting-materials/08-31-2022-planning-commission-agenda-with-supporting-material">Agenda with Supporting Material</a></p><p><a href="https://www.carsoncity.gov/our-city/city-meetings-agendas-minutes-and-broadcast">&nbsp;Webcast</a></p>
X-ALT-DESC;FMTTYPE=text/html:<p><a href="https://www.carsoncity.gov/government/city-meetings-live-broadcast-and-archives/agendas/planning-commission-agendas-with-supporting-materials/2022-agenda-with-supporting-materials/08-31-2022-planning-commission-agenda-with-supporting-material">Agenda with Supporting Material</a></p><p><a href="https://www.carsoncity.gov/our-city/city-meetings-agendas-minutes-and-broadcast">&nbsp;Webcast</a></p>
LOCATION:Community Center\, Robert "Bob" Crowell Board Room\, 851 East William Street Carson City\, Nevada 89701
CLASS:PUBLIC
END:VEVENT
END:VCALENDAR
