BEGIN:VCALENDAR
VERSION:2.0
PRODID:Carson City Calendar Creator
METHOD:PUBLISH
BEGIN:VEVENT
DTSTAMP:20221214T164301
DTSTART:20221220T103000
DTEND:20221220T235900
SUMMARY:Growth Management Commission and Planning Commission
DESCRIPTION:<div><a href="https://www.carsoncity.gov/government/city-meetings-live-broadcast-and-archives/agendas/planning-commission-agendas-with-supporting-materials/2022-agenda-with-supporting-materials/12-20-2022-planning-commission-agenda-with-supporting-material">12/20/2022 Planning Commission Agenda with Supporting Material&nbsp;</a></div><p><a href="https://www.carsoncity.gov/our-city/city-meetings-agendas-minutes-and-broadcast">Webcast&nbsp;</a></p>
X-ALT-DESC;FMTTYPE=text/html:<div><a href="https://www.carsoncity.gov/government/city-meetings-live-broadcast-and-archives/agendas/planning-commission-agendas-with-supporting-materials/2022-agenda-with-supporting-materials/12-20-2022-planning-commission-agenda-with-supporting-material">12/20/2022 Planning Commission Agenda with Supporting Material&nbsp;</a></div><p><a href="https://www.carsoncity.gov/our-city/city-meetings-agendas-minutes-and-broadcast">Webcast&nbsp;</a></p>
LOCATION:Community Center\, Robert "Bob" Crowell Board Room\, 851 East William Street Carson City\, Nevada 89701
CLASS:PUBLIC
END:VEVENT
END:VCALENDAR
