BEGIN:VCALENDAR
VERSION:2.0
PRODID:Carson City Calendar Creator
METHOD:PUBLISH
BEGIN:VEVENT
DTSTAMP:20220118T141332
DTSTART:20220124T090000
DTEND:20220124T115900
SUMMARY:Utility Finance Oversight Committee Meeting
DESCRIPTION:
X-ALT-DESC;FMTTYPE=text/html:
LOCATION:Community Center\, Robert "Bob" Crowell Board Room\, 851 East William Street Carson City\, Nevada 89701
CLASS:PUBLIC
END:VEVENT
END:VCALENDAR
