BEGIN:VCALENDAR
VERSION:2.0
PRODID:Carson City Calendar Creator
METHOD:PUBLISH
BEGIN:VEVENT
DTSTAMP:20220114T161615
DTSTART:20220124T163000
DTEND:20220124T183000
SUMMARY:Advisory Board to Manage Wildlife
DESCRIPTION:<p><a href="https://www.carsoncity.gov/home/showpublisheddocument/78632/637777736484370000" target="_blank">Agenda 1-24-22</a><br><a href="https://www.carsoncity.gov/home/showpublisheddocument/78634/637777737218930000" target="_blank">Draft Minutes</a><br><a href="https://www.carsoncity.gov/home/showpublisheddocument/78636/637777737708970000" target="_blank">Support Material</a></p>
X-ALT-DESC;FMTTYPE=text/html:<p><a href="https://www.carsoncity.gov/home/showpublisheddocument/78632/637777736484370000" target="_blank">Agenda 1-24-22</a><br><a href="https://www.carsoncity.gov/home/showpublisheddocument/78634/637777737218930000" target="_blank">Draft Minutes</a><br><a href="https://www.carsoncity.gov/home/showpublisheddocument/78636/637777737708970000" target="_blank">Support Material</a></p>
LOCATION:Carson City Community Center\, Bonanza Room\, 
CLASS:PUBLIC
END:VEVENT
END:VCALENDAR
