BEGIN:VCALENDAR
VERSION:2.0
PRODID:Carson City Calendar Creator
METHOD:PUBLISH
BEGIN:VEVENT
DTSTAMP:20220123T152209
DTSTART:20220127T173000
DTEND:20220127T235900
SUMMARY:Carson City Library Board of Trustees
DESCRIPTION:Agenda and Supporting materials:&nbsp;<a href="https://carsoncitylibrary.org/board-meetings/" target="_blank">https://carsoncitylibrary.org/board-meetings/</a>
X-ALT-DESC;FMTTYPE=text/html:Agenda and Supporting materials:&nbsp;<a href="https://carsoncitylibrary.org/board-meetings/" target="_blank">https://carsoncitylibrary.org/board-meetings/</a>
LOCATION:Community Center\, Robert "Bob" Crowell Board Room\, 851 East William Street Carson City\, Nevada 89701
CLASS:PUBLIC
END:VEVENT
END:VCALENDAR
