BEGIN:VCALENDAR
VERSION:2.0
PRODID:Carson City Calendar Creator
METHOD:PUBLISH
BEGIN:VEVENT
DTSTAMP:20220201T131942
DTSTART:20220208T153000
DTEND:20220208T170000
SUMMARY:Debt Management Commission
DESCRIPTION:<p><a href="https://www.carsoncity.gov/home/showpublisheddocument/78854/637793014696100000" target="_blank">Agenda</a></p><p><a href="https://www.carsoncity.gov/home/showpublisheddocument/78856/637793014941170000" target="_blank">Draft Minutes</a></p><p><a href="https://www.carsoncity.gov/home/showpublisheddocument/78876/637793183665730000" target="_blank">Support Material</a><a href="https://www.carsoncity.gov/home/showpublisheddocument/78858/637793015214330000" target="_blank">&nbsp;</a></p>
X-ALT-DESC;FMTTYPE=text/html:<p><a href="https://www.carsoncity.gov/home/showpublisheddocument/78854/637793014696100000" target="_blank">Agenda</a></p><p><a href="https://www.carsoncity.gov/home/showpublisheddocument/78856/637793014941170000" target="_blank">Draft Minutes</a></p><p><a href="https://www.carsoncity.gov/home/showpublisheddocument/78876/637793183665730000" target="_blank">Support Material</a><a href="https://www.carsoncity.gov/home/showpublisheddocument/78858/637793015214330000" target="_blank">&nbsp;</a></p>
LOCATION:Community Center\, Robert "Bob" Crowell Board Room\, 851 East William Street Carson City\, Nevada 89701
CLASS:PUBLIC
END:VEVENT
END:VCALENDAR
