BEGIN:VCALENDAR
VERSION:2.0
PRODID:Carson City Calendar Creator
METHOD:PUBLISH
BEGIN:VEVENT
DTSTAMP:20220207T172032
DTSTART:20220208T090000
DTEND:20220208T140000
SUMMARY:Carson City Board of Equalization
DESCRIPTION:<p><a href="https://www.carsoncity.gov/home/showpublisheddocument/78862/637793020429730000" target="_blank">Agenda</a></p><p><a href="https://www.carsoncity.gov/home/showpublisheddocument/78910/637794784491900000" target="_blank">Support Material-Case #2022-000009-Lowes HIW Inc</a><a href="https://www.carsoncity.gov/home/showpublisheddocument/78868/637793031301100000" target="_blank">.</a></p><p><a href="https://www.carsoncity.gov/home/showpublisheddocument/78916/637794795531930000" target="_blank">Support Material-Case #2022-000010-Assemblies of God Loan Fund</a></p><p><a href="https://www.carsoncity.gov/home/showpublisheddocument/78914/637794785297230000" target="_blank">Support Material-Case #2022-000011-J &amp; O Nevada LLC</a></p><p><a href="https://www.carsoncity.gov/home/showpublisheddocument/78949/637798512243300000" target="_blank">Late Material- Case #2022-000011- J &amp; O Nevada LLC</a></p>
X-ALT-DESC;FMTTYPE=text/html:<p><a href="https://www.carsoncity.gov/home/showpublisheddocument/78862/637793020429730000" target="_blank">Agenda</a></p><p><a href="https://www.carsoncity.gov/home/showpublisheddocument/78910/637794784491900000" target="_blank">Support Material-Case #2022-000009-Lowes HIW Inc</a><a href="https://www.carsoncity.gov/home/showpublisheddocument/78868/637793031301100000" target="_blank">.</a></p><p><a href="https://www.carsoncity.gov/home/showpublisheddocument/78916/637794795531930000" target="_blank">Support Material-Case #2022-000010-Assemblies of God Loan Fund</a></p><p><a href="https://www.carsoncity.gov/home/showpublisheddocument/78914/637794785297230000" target="_blank">Support Material-Case #2022-000011-J &amp; O Nevada LLC</a></p><p><a href="https://www.carsoncity.gov/home/showpublisheddocument/78949/637798512243300000" target="_blank">Late Material- Case #2022-000011- J &amp; O Nevada LLC</a></p>
LOCATION:Community Center\, Robert "Bob" Crowell Board Room\, 851 East William Street Carson City\, Nevada 89701
CLASS:PUBLIC
END:VEVENT
END:VCALENDAR
