BEGIN:VCALENDAR
VERSION:2.0
PRODID:Carson City Calendar Creator
METHOD:PUBLISH
BEGIN:VEVENT
DTSTAMP:20220309T144941
DTSTART:20220315T173000
DTEND:20220315T235900
SUMMARY:Cultural Commission Meeting
DESCRIPTION:<p>&nbsp;</p><p><a href="https://www.carsoncity.gov/government/city-meetings-live-broadcast-and-archives/agendas/cultural-commission-agendas-and-supporting-materials">Agenda with Supporting Materials</a></p><p><a href="https://www.carsoncity.gov/government/city-meetings">Livestream</a></p>
X-ALT-DESC;FMTTYPE=text/html:<p>&nbsp;</p><p><a href="https://www.carsoncity.gov/government/city-meetings-live-broadcast-and-archives/agendas/cultural-commission-agendas-and-supporting-materials">Agenda with Supporting Materials</a></p><p><a href="https://www.carsoncity.gov/government/city-meetings">Livestream</a></p>
LOCATION:Community Center\, Robert "Bob" Crowell Board Room\, 851 East William Street Carson City\, Nevada 89701
CLASS:PUBLIC
END:VEVENT
END:VCALENDAR
