BEGIN:VCALENDAR
VERSION:2.0
PRODID:Carson City Calendar Creator
METHOD:PUBLISH
BEGIN:VEVENT
DTSTAMP:20220217T164244
DTSTART:20220225T081500
DTEND:20220225T235900
SUMMARY:Board of Supervisors - Special Workshop
DESCRIPTION:<a href="https://www.carsoncity.gov/home/showpublisheddocument/79083/637807128922300000" target="_blank">Agenda</a>
X-ALT-DESC;FMTTYPE=text/html:<a href="https://www.carsoncity.gov/home/showpublisheddocument/79083/637807128922300000" target="_blank">Agenda</a>
LOCATION:The Studio @ Adams Hub\, 111 W. Proctor Street Carson City\, Nevada 89701
CLASS:PUBLIC
END:VEVENT
END:VCALENDAR
