BEGIN:VCALENDAR
VERSION:2.0
PRODID:Carson City Calendar Creator
METHOD:PUBLISH
BEGIN:VEVENT
DTSTAMP:20220223T143634
DTSTART:20220224T173000
DTEND:20220224T235900
SUMMARY:CANCELED: Carson City Library Board of Trustees
DESCRIPTION:CANCELLED&nbsp;<a href="https://carsoncitylibrary.org/board-meetings/" target="_blank">Agenda and Supporting Materials</a>
X-ALT-DESC;FMTTYPE=text/html:CANCELLED&nbsp;<a href="https://carsoncitylibrary.org/board-meetings/" target="_blank">Agenda and Supporting Materials</a>
LOCATION:Community Center\, Robert "Bob" Crowell Board Room\, 851 East William Street Carson City\, Nevada 89701
CLASS:PUBLIC
END:VEVENT
END:VCALENDAR
