BEGIN:VCALENDAR
VERSION:2.0
PRODID:Carson City Calendar Creator
METHOD:PUBLISH
BEGIN:VEVENT
DTSTAMP:20251022T152525
DTSTART:20220307T000000
DTEND:20220307T235900
SUMMARY:Reminder-Property Tax Due
DESCRIPTION:<p><strong>ON MONDAY, MARCH 7, 2022 THE FOURTH INSTALLMENT OF THE FISCAL YEAR 2021-2022 Real Property Taxes</strong> are due and payable in the office of the Carson City Treasurer, located inside City Hall, 201 N Carson St Suite #5. If not paid within ten (10) days of March 7 , 2022 (on or before March 17, 2022), taxes will become delinquent and penalties will be added. For your convenience, you can make a payment online at <a href="https://carsoncitynv.devnetwedge.com/" target="_blank">&nbsp;</a>carsoncity.gov</p><p>If you already made a payment, please disregard this notice.</p><p>&nbsp;</p>
X-ALT-DESC;FMTTYPE=text/html:<p><strong>ON MONDAY, MARCH 7, 2022 THE FOURTH INSTALLMENT OF THE FISCAL YEAR 2021-2022 Real Property Taxes</strong> are due and payable in the office of the Carson City Treasurer, located inside City Hall, 201 N Carson St Suite #5. If not paid within ten (10) days of March 7 , 2022 (on or before March 17, 2022), taxes will become delinquent and penalties will be added. For your convenience, you can make a payment online at <a href="https://carsoncitynv.devnetwedge.com/" target="_blank">&nbsp;</a>carsoncity.gov</p><p>If you already made a payment, please disregard this notice.</p><p>&nbsp;</p>
LOCATION:City Hall\, 201 N Carson St #5 Carson City\, Nevada 89701
CLASS:PUBLIC
END:VEVENT
END:VCALENDAR
