BEGIN:VCALENDAR
VERSION:2.0
PRODID:Carson City Calendar Creator
METHOD:PUBLISH
BEGIN:VEVENT
DTSTAMP:20220313T103643
DTSTART:20220321T163000
DTEND:20220321T183000
SUMMARY:Advisory Board to Manage Wildlife
DESCRIPTION:<p><a href="https://www.carsoncity.gov/home/showpublisheddocument/79349/637827644054070000" target="_blank">3-21-22 Advisory Board to Manage Wildlife agenda</a></p><p><a href="https://www.carsoncity.gov/home/showpublisheddocument/79351/637827644380700000" target="_blank">1-24-22 Draft Minutes</a>&nbsp;</p><p><a href="https://www.carsoncity.gov/home/showpublisheddocument/79355/637827645452900000" target="_blank">Nevada Department of Wildlife agenda &amp; support material&nbsp;</a></p><p>&nbsp;</p>
X-ALT-DESC;FMTTYPE=text/html:<p><a href="https://www.carsoncity.gov/home/showpublisheddocument/79349/637827644054070000" target="_blank">3-21-22 Advisory Board to Manage Wildlife agenda</a></p><p><a href="https://www.carsoncity.gov/home/showpublisheddocument/79351/637827644380700000" target="_blank">1-24-22 Draft Minutes</a>&nbsp;</p><p><a href="https://www.carsoncity.gov/home/showpublisheddocument/79355/637827645452900000" target="_blank">Nevada Department of Wildlife agenda &amp; support material&nbsp;</a></p><p>&nbsp;</p>
LOCATION:Carson City Community Center\, Bonanza Room\, 
CLASS:PUBLIC
END:VEVENT
END:VCALENDAR
