BEGIN:VCALENDAR
VERSION:2.0
PRODID:Carson City Calendar Creator
METHOD:PUBLISH
BEGIN:VEVENT
DTSTAMP:20220324T150124
DTSTART:20220324T173000
DTEND:20220324T235900
SUMMARY:Carson City Library Board of Trustees
DESCRIPTION:<p><a href="https://www.carsoncity.gov/home/showpublisheddocument/79623/637836490216630000" target="_blank">Agenda and Supporting Materials</a></p><p><a href="https://www.carsoncity.gov/our-city/city-meetings-agendas-minutes-and-broadcast">Livestream</a></p><p><a href="https://www.carsoncity.gov/home/showpublisheddocument/79627/637836490653200000" target="_blank">Agenda</a></p><p><a href="https://carsoncitylibrary.org/board-meetings/" target="_blank">https://carsoncitylibrary.org/board-meetings/</a></p>
X-ALT-DESC;FMTTYPE=text/html:<p><a href="https://www.carsoncity.gov/home/showpublisheddocument/79623/637836490216630000" target="_blank">Agenda and Supporting Materials</a></p><p><a href="https://www.carsoncity.gov/our-city/city-meetings-agendas-minutes-and-broadcast">Livestream</a></p><p><a href="https://www.carsoncity.gov/home/showpublisheddocument/79627/637836490653200000" target="_blank">Agenda</a></p><p><a href="https://carsoncitylibrary.org/board-meetings/" target="_blank">https://carsoncitylibrary.org/board-meetings/</a></p>
LOCATION:Community Center\, Robert "Bob" Crowell Board Room\, 851 East William Street Carson City\, Nevada 89701
CLASS:PUBLIC
END:VEVENT
END:VCALENDAR
