BEGIN:VCALENDAR
VERSION:2.0
PRODID:Carson City Calendar Creator
METHOD:PUBLISH
BEGIN:VEVENT
DTSTAMP:20220602T095115
DTSTART:20220607T133000
DTEND:20220607T235900
SUMMARY:Local Emergency Planning Committee
DESCRIPTION:<a href="https://www.carsoncity.gov/home/showpublisheddocument/80527/637896910189200000" target="_blank">LEPC Agenda 06.07.22 </a>
X-ALT-DESC;FMTTYPE=text/html:<a href="https://www.carsoncity.gov/home/showpublisheddocument/80527/637896910189200000" target="_blank">LEPC Agenda 06.07.22 </a>
LOCATION:Carson City Fire Department\, 777 S Stewart St. Carson City\, Nevada 89701
CLASS:PUBLIC
END:VEVENT
END:VCALENDAR
